BEGIN:VCALENDAR
VERSION:2.0
PRODID:-//Stress Free RVs - ECPv6.15.20//NONSGML v1.0//EN
CALSCALE:GREGORIAN
METHOD:PUBLISH
X-WR-CALNAME:Stress Free RVs
X-ORIGINAL-URL:https://stressfreervs.com
X-WR-CALDESC:Events for Stress Free RVs
REFRESH-INTERVAL;VALUE=DURATION:PT1H
X-Robots-Tag:noindex
X-PUBLISHED-TTL:PT1H
BEGIN:VTIMEZONE
TZID:UTC
BEGIN:STANDARD
TZOFFSETFROM:+0000
TZOFFSETTO:+0000
TZNAME:UTC
DTSTART:20250101T000000
END:STANDARD
END:VTIMEZONE
BEGIN:VEVENT
DTSTART;VALUE=DATE:20260521
DTEND;VALUE=DATE:20260527
DTSTAMP:20260421T160719
CREATED:20260101T002516Z
LAST-MODIFIED:20260101T030936Z
UID:5146-1779321600-1779839999@stressfreervs.com
SUMMARY:MEMORIAL DAY 2026
DESCRIPTION:JANUARY \n🎆 NEW YEAR’S DAY \n12/30 – 01/03\nClosed on New Year’s Eve (pickup considerations apply) \n\n\n\n\n\nRV Type \n\n\nFlat-Rate Holiday Package \n\n\n\n\n\n\nDrivable RVs \n\n\n$1\,495 – $1\,795 \n\n\n\n\nTowable RVs \n\n\n$995 – $1\,295 \n\n\n\n\n\n🇺🇸 MLK DAY \n01/16 – 01/20 \n\n\n\n\n\nRV Type \n\n\nFlat-Rate Holiday Package \n\n\n\n\n\n\nDrivable RVs \n\n\n$1\,395 – $1\,695 \n\n\n\n\nTowable RVs \n\n\n$895 – $1\,195 \n\n\n\n\n\nFEBRUARY \n🇺🇸 PRESIDENTS DAY \n02/13 – 02/17 \n\n\n\n\n\nRV Type \n\n\nFlat-Rate Holiday Package \n\n\n\n\n\n\nDrivable RVs \n\n\n$1\,495 – $1\,795 \n\n\n\n\nTowable RVs \n\n\n$995 – $1\,295 \n\n\n\n\n\nMARCH \n🍀 ST. PATRICK’S DAY \n03/13 – 03/16 \n\n\n\n\n\nRV Type \n\n\nFlat-Rate Holiday Package \n\n\n\n\n\n\nDrivable RVs \n\n\n$1\,295 – $1\,595 \n\n\n\n\nTowable RVs \n\n\n$895 – $1\,195 \n\n\n\n\n\nMAY \n🇺🇸 MEMORIAL DAY (HIGH DEMAND) \n05/21 – 05/26 \n\n\n\n\n\nRV Type \n\n\nFlat-Rate Holiday Package \n\n\n\n\n\n\nDrivable RVs \n\n\n$1\,795 – $2\,195 \n\n\n\n\nTowable RVs \n\n\n$1\,195 – $1\,595 \n\n\n\n\n\nJULY \n🇺🇸 INDEPENDENCE DAY (ULTRA-PEAK) \n07/02 – 07/06 \n\n\n\n\n\nRV Type \n\n\nFlat-Rate Holiday Package \n\n\n\n\n\n\nDrivable RVs \n\n\n$1\,995 – $2\,395 \n\n\n\n\nTowable RVs \n\n\n$1\,395 – $1\,795 \n\n\n\n\n\nSEPTEMBER \n🇺🇸 LABOR DAY \n09/04 – 09/08 \n\n\n\n\n\nRV Type \n\n\nFlat-Rate Holiday Package \n\n\n\n\n\n\nDrivable RVs \n\n\n$1\,795 – $2\,195 \n\n\n\n\nTowable RVs \n\n\n$1\,195 – $1\,595 \n\n\n\n\n\nNOVEMBER \n🇺🇸 VETERANS DAY \n11/11 – 11/15 \n\n\n\n\n\nRV Type \n\n\nFlat-Rate Holiday Package \n\n\n\n\n\n\nDrivable RVs \n\n\n$1\,295 – $1\,595 \n\n\n\n\nTowable RVs \n\n\n$895 – $1\,195 \n\n\n\n\n\n🦃 THANKSGIVING \n11/25 – 11/29 \n\n\n\n\n\nRV Type \n\n\nFlat-Rate Holiday Package \n\n\n\n\n\n\nDrivable RVs \n\n\n$1\,695 – $1\,995 \n\n\n\n\nTowable RVs \n\n\n$1\,095 – $1\,395 \n\n\n\n\n\nDECEMBER \n🎄 CHRISTMAS \n12/23 – 12/27 \n\n\n\n\n\nRV Type \n\n\nFlat-Rate Holiday Package \n\n\n\n\n\n\nDrivable RVs \n\n\n$1\,695 – $1\,995 \n\n\n\n\nTowable RVs \n\n\n$1\,095 – $1\,395 \n\n\n\n\n\n🎆 NEW YEAR’S (YEAR-END) \n12/30 – 01/03 \n\n\n\n\n\nRV Type \n\n\nFlat-Rate Holiday Package \n\n\n\n\n\n\nDrivable RVs \n\n\n$1\,795 – $2\,195 \n\n\n\n\nTowable RVs \n\n\n$1\,195 – $1\,595
URL:https://stressfreervs.com/event/memorial-day-2026/
CATEGORIES:2026,Holidays
ATTACH;FMTTYPE=image/png:https://stressfreervs.com/wp-content/uploads/2023/04/273786814-471718257763790-3231481937178206629-n.png
END:VEVENT
BEGIN:VEVENT
DTSTART;VALUE=DATE:20260702
DTEND;VALUE=DATE:20260707
DTSTAMP:20260421T160719
CREATED:20260101T002542Z
LAST-MODIFIED:20260101T030940Z
UID:5149-1782950400-1783382399@stressfreervs.com
SUMMARY:INDEPENDENCE DAY 2026
DESCRIPTION:JANUARY \n🎆 NEW YEAR’S DAY \n12/30 – 01/03\nClosed on New Year’s Eve (pickup considerations apply) \n\n\n\n\n\nRV Type \n\n\nFlat-Rate Holiday Package \n\n\n\n\n\n\nDrivable RVs \n\n\n$1\,495 – $1\,795 \n\n\n\n\nTowable RVs \n\n\n$995 – $1\,295 \n\n\n\n\n\n🇺🇸 MLK DAY \n01/16 – 01/20 \n\n\n\n\n\nRV Type \n\n\nFlat-Rate Holiday Package \n\n\n\n\n\n\nDrivable RVs \n\n\n$1\,395 – $1\,695 \n\n\n\n\nTowable RVs \n\n\n$895 – $1\,195 \n\n\n\n\n\nFEBRUARY \n🇺🇸 PRESIDENTS DAY \n02/13 – 02/17 \n\n\n\n\n\nRV Type \n\n\nFlat-Rate Holiday Package \n\n\n\n\n\n\nDrivable RVs \n\n\n$1\,495 – $1\,795 \n\n\n\n\nTowable RVs \n\n\n$995 – $1\,295 \n\n\n\n\n\nMARCH \n🍀 ST. PATRICK’S DAY \n03/13 – 03/16 \n\n\n\n\n\nRV Type \n\n\nFlat-Rate Holiday Package \n\n\n\n\n\n\nDrivable RVs \n\n\n$1\,295 – $1\,595 \n\n\n\n\nTowable RVs \n\n\n$895 – $1\,195 \n\n\n\n\n\nMAY \n🇺🇸 MEMORIAL DAY (HIGH DEMAND) \n05/21 – 05/26 \n\n\n\n\n\nRV Type \n\n\nFlat-Rate Holiday Package \n\n\n\n\n\n\nDrivable RVs \n\n\n$1\,795 – $2\,195 \n\n\n\n\nTowable RVs \n\n\n$1\,195 – $1\,595 \n\n\n\n\n\nJULY \n🇺🇸 INDEPENDENCE DAY (ULTRA-PEAK) \n07/02 – 07/06 \n\n\n\n\n\nRV Type \n\n\nFlat-Rate Holiday Package \n\n\n\n\n\n\nDrivable RVs \n\n\n$1\,995 – $2\,395 \n\n\n\n\nTowable RVs \n\n\n$1\,395 – $1\,795 \n\n\n\n\n\nSEPTEMBER \n🇺🇸 LABOR DAY \n09/04 – 09/08 \n\n\n\n\n\nRV Type \n\n\nFlat-Rate Holiday Package \n\n\n\n\n\n\nDrivable RVs \n\n\n$1\,795 – $2\,195 \n\n\n\n\nTowable RVs \n\n\n$1\,195 – $1\,595 \n\n\n\n\n\nNOVEMBER \n🇺🇸 VETERANS DAY \n11/11 – 11/15 \n\n\n\n\n\nRV Type \n\n\nFlat-Rate Holiday Package \n\n\n\n\n\n\nDrivable RVs \n\n\n$1\,295 – $1\,595 \n\n\n\n\nTowable RVs \n\n\n$895 – $1\,195 \n\n\n\n\n\n🦃 THANKSGIVING \n11/25 – 11/29 \n\n\n\n\n\nRV Type \n\n\nFlat-Rate Holiday Package \n\n\n\n\n\n\nDrivable RVs \n\n\n$1\,695 – $1\,995 \n\n\n\n\nTowable RVs \n\n\n$1\,095 – $1\,395 \n\n\n\n\n\nDECEMBER \n🎄 CHRISTMAS \n12/23 – 12/27 \n\n\n\n\n\nRV Type \n\n\nFlat-Rate Holiday Package \n\n\n\n\n\n\nDrivable RVs \n\n\n$1\,695 – $1\,995 \n\n\n\n\nTowable RVs \n\n\n$1\,095 – $1\,395 \n\n\n\n\n\n🎆 NEW YEAR’S (YEAR-END) \n12/30 – 01/03 \n\n\n\n\n\nRV Type \n\n\nFlat-Rate Holiday Package \n\n\n\n\n\n\nDrivable RVs \n\n\n$1\,795 – $2\,195 \n\n\n\n\nTowable RVs \n\n\n$1\,195 – $1\,595
URL:https://stressfreervs.com/event/independence-day-2026/
CATEGORIES:2026,Holidays
ATTACH;FMTTYPE=image/png:https://stressfreervs.com/wp-content/uploads/2023/04/273786814-471718257763790-3231481937178206629-n.png
END:VEVENT
BEGIN:VEVENT
DTSTART;VALUE=DATE:20260904
DTEND;VALUE=DATE:20260909
DTSTAMP:20260421T160719
CREATED:20260101T002618Z
LAST-MODIFIED:20260101T030946Z
UID:5152-1788480000-1788911999@stressfreervs.com
SUMMARY:LABOR DAY 2026
DESCRIPTION:JANUARY \n🎆 NEW YEAR’S DAY \n12/30 – 01/03\nClosed on New Year’s Eve (pickup considerations apply) \n\n\n\n\n\nRV Type \n\n\nFlat-Rate Holiday Package \n\n\n\n\n\n\nDrivable RVs \n\n\n$1\,495 – $1\,795 \n\n\n\n\nTowable RVs \n\n\n$995 – $1\,295 \n\n\n\n\n\n🇺🇸 MLK DAY \n01/16 – 01/20 \n\n\n\n\n\nRV Type \n\n\nFlat-Rate Holiday Package \n\n\n\n\n\n\nDrivable RVs \n\n\n$1\,395 – $1\,695 \n\n\n\n\nTowable RVs \n\n\n$895 – $1\,195 \n\n\n\n\n\nFEBRUARY \n🇺🇸 PRESIDENTS DAY \n02/13 – 02/17 \n\n\n\n\n\nRV Type \n\n\nFlat-Rate Holiday Package \n\n\n\n\n\n\nDrivable RVs \n\n\n$1\,495 – $1\,795 \n\n\n\n\nTowable RVs \n\n\n$995 – $1\,295 \n\n\n\n\n\nMARCH \n🍀 ST. PATRICK’S DAY \n03/13 – 03/16 \n\n\n\n\n\nRV Type \n\n\nFlat-Rate Holiday Package \n\n\n\n\n\n\nDrivable RVs \n\n\n$1\,295 – $1\,595 \n\n\n\n\nTowable RVs \n\n\n$895 – $1\,195 \n\n\n\n\n\nMAY \n🇺🇸 MEMORIAL DAY (HIGH DEMAND) \n05/21 – 05/26 \n\n\n\n\n\nRV Type \n\n\nFlat-Rate Holiday Package \n\n\n\n\n\n\nDrivable RVs \n\n\n$1\,795 – $2\,195 \n\n\n\n\nTowable RVs \n\n\n$1\,195 – $1\,595 \n\n\n\n\n\nJULY \n🇺🇸 INDEPENDENCE DAY (ULTRA-PEAK) \n07/02 – 07/06 \n\n\n\n\n\nRV Type \n\n\nFlat-Rate Holiday Package \n\n\n\n\n\n\nDrivable RVs \n\n\n$1\,995 – $2\,395 \n\n\n\n\nTowable RVs \n\n\n$1\,395 – $1\,795 \n\n\n\n\n\nSEPTEMBER \n🇺🇸 LABOR DAY \n09/04 – 09/08 \n\n\n\n\n\nRV Type \n\n\nFlat-Rate Holiday Package \n\n\n\n\n\n\nDrivable RVs \n\n\n$1\,795 – $2\,195 \n\n\n\n\nTowable RVs \n\n\n$1\,195 – $1\,595 \n\n\n\n\n\nNOVEMBER \n🇺🇸 VETERANS DAY \n11/11 – 11/15 \n\n\n\n\n\nRV Type \n\n\nFlat-Rate Holiday Package \n\n\n\n\n\n\nDrivable RVs \n\n\n$1\,295 – $1\,595 \n\n\n\n\nTowable RVs \n\n\n$895 – $1\,195 \n\n\n\n\n\n🦃 THANKSGIVING \n11/25 – 11/29 \n\n\n\n\n\nRV Type \n\n\nFlat-Rate Holiday Package \n\n\n\n\n\n\nDrivable RVs \n\n\n$1\,695 – $1\,995 \n\n\n\n\nTowable RVs \n\n\n$1\,095 – $1\,395 \n\n\n\n\n\nDECEMBER \n🎄 CHRISTMAS \n12/23 – 12/27 \n\n\n\n\n\nRV Type \n\n\nFlat-Rate Holiday Package \n\n\n\n\n\n\nDrivable RVs \n\n\n$1\,695 – $1\,995 \n\n\n\n\nTowable RVs \n\n\n$1\,095 – $1\,395 \n\n\n\n\n\n🎆 NEW YEAR’S (YEAR-END) \n12/30 – 01/03 \n\n\n\n\n\nRV Type \n\n\nFlat-Rate Holiday Package \n\n\n\n\n\n\nDrivable RVs \n\n\n$1\,795 – $2\,195 \n\n\n\n\nTowable RVs \n\n\n$1\,195 – $1\,595
URL:https://stressfreervs.com/event/labor-day-2026/
CATEGORIES:2026,Holidays
ATTACH;FMTTYPE=image/png:https://stressfreervs.com/wp-content/uploads/2023/04/273786814-471718257763790-3231481937178206629-n.png
END:VEVENT
BEGIN:VEVENT
DTSTART;VALUE=DATE:20261111
DTEND;VALUE=DATE:20261116
DTSTAMP:20260421T160719
CREATED:20260101T002657Z
LAST-MODIFIED:20260101T030950Z
UID:5155-1794355200-1794787199@stressfreervs.com
SUMMARY:VETERANS DAY 2026
DESCRIPTION:JANUARY \n🎆 NEW YEAR’S DAY \n12/30 – 01/03\nClosed on New Year’s Eve (pickup considerations apply) \n\n\n\n\n\nRV Type \n\n\nFlat-Rate Holiday Package \n\n\n\n\n\n\nDrivable RVs \n\n\n$1\,495 – $1\,795 \n\n\n\n\nTowable RVs \n\n\n$995 – $1\,295 \n\n\n\n\n\n🇺🇸 MLK DAY \n01/16 – 01/20 \n\n\n\n\n\nRV Type \n\n\nFlat-Rate Holiday Package \n\n\n\n\n\n\nDrivable RVs \n\n\n$1\,395 – $1\,695 \n\n\n\n\nTowable RVs \n\n\n$895 – $1\,195 \n\n\n\n\n\nFEBRUARY \n🇺🇸 PRESIDENTS DAY \n02/13 – 02/17 \n\n\n\n\n\nRV Type \n\n\nFlat-Rate Holiday Package \n\n\n\n\n\n\nDrivable RVs \n\n\n$1\,495 – $1\,795 \n\n\n\n\nTowable RVs \n\n\n$995 – $1\,295 \n\n\n\n\n\nMARCH \n🍀 ST. PATRICK’S DAY \n03/13 – 03/16 \n\n\n\n\n\nRV Type \n\n\nFlat-Rate Holiday Package \n\n\n\n\n\n\nDrivable RVs \n\n\n$1\,295 – $1\,595 \n\n\n\n\nTowable RVs \n\n\n$895 – $1\,195 \n\n\n\n\n\nMAY \n🇺🇸 MEMORIAL DAY (HIGH DEMAND) \n05/21 – 05/26 \n\n\n\n\n\nRV Type \n\n\nFlat-Rate Holiday Package \n\n\n\n\n\n\nDrivable RVs \n\n\n$1\,795 – $2\,195 \n\n\n\n\nTowable RVs \n\n\n$1\,195 – $1\,595 \n\n\n\n\n\nJULY \n🇺🇸 INDEPENDENCE DAY (ULTRA-PEAK) \n07/02 – 07/06 \n\n\n\n\n\nRV Type \n\n\nFlat-Rate Holiday Package \n\n\n\n\n\n\nDrivable RVs \n\n\n$1\,995 – $2\,395 \n\n\n\n\nTowable RVs \n\n\n$1\,395 – $1\,795 \n\n\n\n\n\nSEPTEMBER \n🇺🇸 LABOR DAY \n09/04 – 09/08 \n\n\n\n\n\nRV Type \n\n\nFlat-Rate Holiday Package \n\n\n\n\n\n\nDrivable RVs \n\n\n$1\,795 – $2\,195 \n\n\n\n\nTowable RVs \n\n\n$1\,195 – $1\,595 \n\n\n\n\n\nNOVEMBER \n🇺🇸 VETERANS DAY \n11/11 – 11/15 \n\n\n\n\n\nRV Type \n\n\nFlat-Rate Holiday Package \n\n\n\n\n\n\nDrivable RVs \n\n\n$1\,295 – $1\,595 \n\n\n\n\nTowable RVs \n\n\n$895 – $1\,195 \n\n\n\n\n\n🦃 THANKSGIVING \n11/25 – 11/29 \n\n\n\n\n\nRV Type \n\n\nFlat-Rate Holiday Package \n\n\n\n\n\n\nDrivable RVs \n\n\n$1\,695 – $1\,995 \n\n\n\n\nTowable RVs \n\n\n$1\,095 – $1\,395 \n\n\n\n\n\nDECEMBER \n🎄 CHRISTMAS \n12/23 – 12/27 \n\n\n\n\n\nRV Type \n\n\nFlat-Rate Holiday Package \n\n\n\n\n\n\nDrivable RVs \n\n\n$1\,695 – $1\,995 \n\n\n\n\nTowable RVs \n\n\n$1\,095 – $1\,395 \n\n\n\n\n\n🎆 NEW YEAR’S (YEAR-END) \n12/30 – 01/03 \n\n\n\n\n\nRV Type \n\n\nFlat-Rate Holiday Package \n\n\n\n\n\n\nDrivable RVs \n\n\n$1\,795 – $2\,195 \n\n\n\n\nTowable RVs \n\n\n$1\,195 – $1\,595
URL:https://stressfreervs.com/event/veterans-day-2026/
CATEGORIES:2026,Holidays
ATTACH;FMTTYPE=image/png:https://stressfreervs.com/wp-content/uploads/2023/04/273786814-471718257763790-3231481937178206629-n.png
END:VEVENT
BEGIN:VEVENT
DTSTART;VALUE=DATE:20261125
DTEND;VALUE=DATE:20261130
DTSTAMP:20260421T160719
CREATED:20260101T002737Z
LAST-MODIFIED:20260101T030954Z
UID:5158-1795564800-1795996799@stressfreervs.com
SUMMARY:THANKSGIVING 2026
DESCRIPTION:JANUARY \n🎆 NEW YEAR’S DAY \n12/30 – 01/03\nClosed on New Year’s Eve (pickup considerations apply) \n\n\n\n\n\nRV Type \n\n\nFlat-Rate Holiday Package \n\n\n\n\n\n\nDrivable RVs \n\n\n$1\,495 – $1\,795 \n\n\n\n\nTowable RVs \n\n\n$995 – $1\,295 \n\n\n\n\n\n🇺🇸 MLK DAY \n01/16 – 01/20 \n\n\n\n\n\nRV Type \n\n\nFlat-Rate Holiday Package \n\n\n\n\n\n\nDrivable RVs \n\n\n$1\,395 – $1\,695 \n\n\n\n\nTowable RVs \n\n\n$895 – $1\,195 \n\n\n\n\n\nFEBRUARY \n🇺🇸 PRESIDENTS DAY \n02/13 – 02/17 \n\n\n\n\n\nRV Type \n\n\nFlat-Rate Holiday Package \n\n\n\n\n\n\nDrivable RVs \n\n\n$1\,495 – $1\,795 \n\n\n\n\nTowable RVs \n\n\n$995 – $1\,295 \n\n\n\n\n\nMARCH \n🍀 ST. PATRICK’S DAY \n03/13 – 03/16 \n\n\n\n\n\nRV Type \n\n\nFlat-Rate Holiday Package \n\n\n\n\n\n\nDrivable RVs \n\n\n$1\,295 – $1\,595 \n\n\n\n\nTowable RVs \n\n\n$895 – $1\,195 \n\n\n\n\n\nMAY \n🇺🇸 MEMORIAL DAY (HIGH DEMAND) \n05/21 – 05/26 \n\n\n\n\n\nRV Type \n\n\nFlat-Rate Holiday Package \n\n\n\n\n\n\nDrivable RVs \n\n\n$1\,795 – $2\,195 \n\n\n\n\nTowable RVs \n\n\n$1\,195 – $1\,595 \n\n\n\n\n\nJULY \n🇺🇸 INDEPENDENCE DAY (ULTRA-PEAK) \n07/02 – 07/06 \n\n\n\n\n\nRV Type \n\n\nFlat-Rate Holiday Package \n\n\n\n\n\n\nDrivable RVs \n\n\n$1\,995 – $2\,395 \n\n\n\n\nTowable RVs \n\n\n$1\,395 – $1\,795 \n\n\n\n\n\nSEPTEMBER \n🇺🇸 LABOR DAY \n09/04 – 09/08 \n\n\n\n\n\nRV Type \n\n\nFlat-Rate Holiday Package \n\n\n\n\n\n\nDrivable RVs \n\n\n$1\,795 – $2\,195 \n\n\n\n\nTowable RVs \n\n\n$1\,195 – $1\,595 \n\n\n\n\n\nNOVEMBER \n🇺🇸 VETERANS DAY \n11/11 – 11/15 \n\n\n\n\n\nRV Type \n\n\nFlat-Rate Holiday Package \n\n\n\n\n\n\nDrivable RVs \n\n\n$1\,295 – $1\,595 \n\n\n\n\nTowable RVs \n\n\n$895 – $1\,195 \n\n\n\n\n\n🦃 THANKSGIVING \n11/25 – 11/29 \n\n\n\n\n\nRV Type \n\n\nFlat-Rate Holiday Package \n\n\n\n\n\n\nDrivable RVs \n\n\n$1\,695 – $1\,995 \n\n\n\n\nTowable RVs \n\n\n$1\,095 – $1\,395 \n\n\n\n\n\nDECEMBER \n🎄 CHRISTMAS \n12/23 – 12/27 \n\n\n\n\n\nRV Type \n\n\nFlat-Rate Holiday Package \n\n\n\n\n\n\nDrivable RVs \n\n\n$1\,695 – $1\,995 \n\n\n\n\nTowable RVs \n\n\n$1\,095 – $1\,395 \n\n\n\n\n\n🎆 NEW YEAR’S (YEAR-END) \n12/30 – 01/03 \n\n\n\n\n\nRV Type \n\n\nFlat-Rate Holiday Package \n\n\n\n\n\n\nDrivable RVs \n\n\n$1\,795 – $2\,195 \n\n\n\n\nTowable RVs \n\n\n$1\,195 – $1\,595
URL:https://stressfreervs.com/event/thanksgiving-2026/
CATEGORIES:2026,Holidays
ATTACH;FMTTYPE=image/png:https://stressfreervs.com/wp-content/uploads/2023/04/273786814-471718257763790-3231481937178206629-n.png
END:VEVENT
BEGIN:VEVENT
DTSTART;VALUE=DATE:20261223
DTEND;VALUE=DATE:20261228
DTSTAMP:20260421T160719
CREATED:20260101T002809Z
LAST-MODIFIED:20260101T030958Z
UID:5161-1797984000-1798415999@stressfreervs.com
SUMMARY:CHRISTMAS 2026
DESCRIPTION:JANUARY \n🎆 NEW YEAR’S DAY \n12/30 – 01/03\nClosed on New Year’s Eve (pickup considerations apply) \n\n\n\n\n\nRV Type \n\n\nFlat-Rate Holiday Package \n\n\n\n\n\n\nDrivable RVs \n\n\n$1\,495 – $1\,795 \n\n\n\n\nTowable RVs \n\n\n$995 – $1\,295 \n\n\n\n\n\n🇺🇸 MLK DAY \n01/16 – 01/20 \n\n\n\n\n\nRV Type \n\n\nFlat-Rate Holiday Package \n\n\n\n\n\n\nDrivable RVs \n\n\n$1\,395 – $1\,695 \n\n\n\n\nTowable RVs \n\n\n$895 – $1\,195 \n\n\n\n\n\nFEBRUARY \n🇺🇸 PRESIDENTS DAY \n02/13 – 02/17 \n\n\n\n\n\nRV Type \n\n\nFlat-Rate Holiday Package \n\n\n\n\n\n\nDrivable RVs \n\n\n$1\,495 – $1\,795 \n\n\n\n\nTowable RVs \n\n\n$995 – $1\,295 \n\n\n\n\n\nMARCH \n🍀 ST. PATRICK’S DAY \n03/13 – 03/16 \n\n\n\n\n\nRV Type \n\n\nFlat-Rate Holiday Package \n\n\n\n\n\n\nDrivable RVs \n\n\n$1\,295 – $1\,595 \n\n\n\n\nTowable RVs \n\n\n$895 – $1\,195 \n\n\n\n\n\nMAY \n🇺🇸 MEMORIAL DAY (HIGH DEMAND) \n05/21 – 05/26 \n\n\n\n\n\nRV Type \n\n\nFlat-Rate Holiday Package \n\n\n\n\n\n\nDrivable RVs \n\n\n$1\,795 – $2\,195 \n\n\n\n\nTowable RVs \n\n\n$1\,195 – $1\,595 \n\n\n\n\n\nJULY \n🇺🇸 INDEPENDENCE DAY (ULTRA-PEAK) \n07/02 – 07/06 \n\n\n\n\n\nRV Type \n\n\nFlat-Rate Holiday Package \n\n\n\n\n\n\nDrivable RVs \n\n\n$1\,995 – $2\,395 \n\n\n\n\nTowable RVs \n\n\n$1\,395 – $1\,795 \n\n\n\n\n\nSEPTEMBER \n🇺🇸 LABOR DAY \n09/04 – 09/08 \n\n\n\n\n\nRV Type \n\n\nFlat-Rate Holiday Package \n\n\n\n\n\n\nDrivable RVs \n\n\n$1\,795 – $2\,195 \n\n\n\n\nTowable RVs \n\n\n$1\,195 – $1\,595 \n\n\n\n\n\nNOVEMBER \n🇺🇸 VETERANS DAY \n11/11 – 11/15 \n\n\n\n\n\nRV Type \n\n\nFlat-Rate Holiday Package \n\n\n\n\n\n\nDrivable RVs \n\n\n$1\,295 – $1\,595 \n\n\n\n\nTowable RVs \n\n\n$895 – $1\,195 \n\n\n\n\n\n🦃 THANKSGIVING \n11/25 – 11/29 \n\n\n\n\n\nRV Type \n\n\nFlat-Rate Holiday Package \n\n\n\n\n\n\nDrivable RVs \n\n\n$1\,695 – $1\,995 \n\n\n\n\nTowable RVs \n\n\n$1\,095 – $1\,395 \n\n\n\n\n\nDECEMBER \n🎄 CHRISTMAS \n12/23 – 12/27 \n\n\n\n\n\nRV Type \n\n\nFlat-Rate Holiday Package \n\n\n\n\n\n\nDrivable RVs \n\n\n$1\,695 – $1\,995 \n\n\n\n\nTowable RVs \n\n\n$1\,095 – $1\,395 \n\n\n\n\n\n🎆 NEW YEAR’S (YEAR-END) \n12/30 – 01/03 \n\n\n\n\n\nRV Type \n\n\nFlat-Rate Holiday Package \n\n\n\n\n\n\nDrivable RVs \n\n\n$1\,795 – $2\,195 \n\n\n\n\nTowable RVs \n\n\n$1\,195 – $1\,595
URL:https://stressfreervs.com/event/christmas-2026/
CATEGORIES:2026,Holidays
ATTACH;FMTTYPE=image/png:https://stressfreervs.com/wp-content/uploads/2023/04/273786814-471718257763790-3231481937178206629-n.png
END:VEVENT
BEGIN:VEVENT
DTSTART;VALUE=DATE:20261230
DTEND;VALUE=DATE:20270104
DTSTAMP:20260421T160719
CREATED:20260101T002855Z
LAST-MODIFIED:20260101T031003Z
UID:5164-1798588800-1799020799@stressfreervs.com
SUMMARY:NEW YEAR’S DAY 2027
DESCRIPTION:JANUARY \n🎆 NEW YEAR’S DAY \n12/30 – 01/03\nClosed on New Year’s Eve (pickup considerations apply) \n\n\n\n\n\nRV Type \n\n\nFlat-Rate Holiday Package \n\n\n\n\n\n\nDrivable RVs \n\n\n$1\,495 – $1\,795 \n\n\n\n\nTowable RVs \n\n\n$995 – $1\,295 \n\n\n\n\n\n🇺🇸 MLK DAY \n01/16 – 01/20 \n\n\n\n\n\nRV Type \n\n\nFlat-Rate Holiday Package \n\n\n\n\n\n\nDrivable RVs \n\n\n$1\,395 – $1\,695 \n\n\n\n\nTowable RVs \n\n\n$895 – $1\,195 \n\n\n\n\n\nFEBRUARY \n🇺🇸 PRESIDENTS DAY \n02/13 – 02/17 \n\n\n\n\n\nRV Type \n\n\nFlat-Rate Holiday Package \n\n\n\n\n\n\nDrivable RVs \n\n\n$1\,495 – $1\,795 \n\n\n\n\nTowable RVs \n\n\n$995 – $1\,295 \n\n\n\n\n\nMARCH \n🍀 ST. PATRICK’S DAY \n03/13 – 03/16 \n\n\n\n\n\nRV Type \n\n\nFlat-Rate Holiday Package \n\n\n\n\n\n\nDrivable RVs \n\n\n$1\,295 – $1\,595 \n\n\n\n\nTowable RVs \n\n\n$895 – $1\,195 \n\n\n\n\n\nMAY \n🇺🇸 MEMORIAL DAY (HIGH DEMAND) \n05/21 – 05/26 \n\n\n\n\n\nRV Type \n\n\nFlat-Rate Holiday Package \n\n\n\n\n\n\nDrivable RVs \n\n\n$1\,795 – $2\,195 \n\n\n\n\nTowable RVs \n\n\n$1\,195 – $1\,595 \n\n\n\n\n\nJULY \n🇺🇸 INDEPENDENCE DAY (ULTRA-PEAK) \n07/02 – 07/06 \n\n\n\n\n\nRV Type \n\n\nFlat-Rate Holiday Package \n\n\n\n\n\n\nDrivable RVs \n\n\n$1\,995 – $2\,395 \n\n\n\n\nTowable RVs \n\n\n$1\,395 – $1\,795 \n\n\n\n\n\nSEPTEMBER \n🇺🇸 LABOR DAY \n09/04 – 09/08 \n\n\n\n\n\nRV Type \n\n\nFlat-Rate Holiday Package \n\n\n\n\n\n\nDrivable RVs \n\n\n$1\,795 – $2\,195 \n\n\n\n\nTowable RVs \n\n\n$1\,195 – $1\,595 \n\n\n\n\n\nNOVEMBER \n🇺🇸 VETERANS DAY \n11/11 – 11/15 \n\n\n\n\n\nRV Type \n\n\nFlat-Rate Holiday Package \n\n\n\n\n\n\nDrivable RVs \n\n\n$1\,295 – $1\,595 \n\n\n\n\nTowable RVs \n\n\n$895 – $1\,195 \n\n\n\n\n\n🦃 THANKSGIVING \n11/25 – 11/29 \n\n\n\n\n\nRV Type \n\n\nFlat-Rate Holiday Package \n\n\n\n\n\n\nDrivable RVs \n\n\n$1\,695 – $1\,995 \n\n\n\n\nTowable RVs \n\n\n$1\,095 – $1\,395 \n\n\n\n\n\nDECEMBER \n🎄 CHRISTMAS \n12/23 – 12/27 \n\n\n\n\n\nRV Type \n\n\nFlat-Rate Holiday Package \n\n\n\n\n\n\nDrivable RVs \n\n\n$1\,695 – $1\,995 \n\n\n\n\nTowable RVs \n\n\n$1\,095 – $1\,395 \n\n\n\n\n\n🎆 NEW YEAR’S (YEAR-END) \n12/30 – 01/03 \n\n\n\n\n\nRV Type \n\n\nFlat-Rate Holiday Package \n\n\n\n\n\n\nDrivable RVs \n\n\n$1\,795 – $2\,195 \n\n\n\n\nTowable RVs \n\n\n$1\,195 – $1\,595
URL:https://stressfreervs.com/event/new-years-day-2027/
CATEGORIES:2027,Holidays
ATTACH;FMTTYPE=image/png:https://stressfreervs.com/wp-content/uploads/2023/04/273786814-471718257763790-3231481937178206629-n.png
END:VEVENT
END:VCALENDAR