BEGIN:VCALENDAR
VERSION:2.0
PRODID:-//Stress Free RVs - ECPv6.15.20//NONSGML v1.0//EN
CALSCALE:GREGORIAN
METHOD:PUBLISH
X-WR-CALNAME:Stress Free RVs
X-ORIGINAL-URL:https://stressfreervs.com
X-WR-CALDESC:Events for Stress Free RVs
REFRESH-INTERVAL;VALUE=DURATION:PT1H
X-Robots-Tag:noindex
X-PUBLISHED-TTL:PT1H
BEGIN:VTIMEZONE
TZID:UTC
BEGIN:STANDARD
TZOFFSETFROM:+0000
TZOFFSETTO:+0000
TZNAME:UTC
DTSTART:20250101T000000
END:STANDARD
END:VTIMEZONE
BEGIN:VEVENT
DTSTART;VALUE=DATE:20260424
DTEND;VALUE=DATE:20260427
DTSTAMP:20260421T155310
CREATED:20251227T190707Z
LAST-MODIFIED:20260101T030828Z
UID:5072-1776988800-1777247999@stressfreervs.com
SUMMARY:Stagecoach 2026
DESCRIPTION:2026 STAGECOACH — STRESS FREE RV EVENT PACKAGES \nEvent: Stagecoach Country Music Festival\nEvent Location: Empire Polo Club\, 81800 Avenue 51\, Indio\, CA 92201\nMeeting / Pickup Location: Sycuan Market\, 4915 Dehesa Road\, El Cajon\, CA 92109\nEvent Info: https://www.stagecoachfestival.com \nDrivable RVs Only | WILL SELL OUT | Early Booking Strongly Recommended!!! \nWHY STRESS FREE RVs: \n\nProven Stagecoach event experience for the past 5 years\nPremium\, event-ready drivable RVs\nSimple flat-rate country festival packages\nNo nightly pricing surprises\nStress-free pickup\, orientation\, travel\, and return\n\nIMPORTANT TO KNOW (KEEP IT SIMPLE) \n\nDrivable RVs only (no towable units)\nEvent pricing replaces standard rates\nMinimum stay applies\nPickup before event / return after event\nLimited inventory — first come\, first served\n\nEVENT FLAT-RATE RV PACKAGES (SPECIAL PRICING) \nSTAGECOACH WEEKEND \n04/23 – 04/27 SPECIAL FLAT RATES ARE IN EFFECT \n\n\n\n\n\nRV Type \n\n\nEvent Package (4 Nights) \n\n\n\n\n\n\nDrivable RVs \n\n\n$1\,695 – $1\,895+ \n\n\n\n\n\nFlat-rate packages INCLUDE: \n\nTrip Prep & Orientation\nStarter Supply Kit\nAccidental Damage Protection\n\n(Taxes added at checkout. Delivery not included.) \nMOST POPULAR ADD-ONS A’LA CARTE PRICING OPTIONS \n\n\n\n\n\nEnhancement \n\n\nPrice \n\n\nWhy Guests Choose It \n\n\n\n\n\n\nStress Free Essentials \n\n\n$349 \n\n\nEarly start & late return\, pre-filled water\, propane refilled\, waste tanks serviced \n\n\n\n\nUNLIMITED WiFi (Starlink) \n\n\n$45 per day \n\n\nStay connected throughout the weekend \n\n\n\n\nCommercial Insurance – Full Coverage \n\n\n$10–$35 per day \n\n\nREQUIRED with reservation \n\n\n\n\n\nFull Add-On Menu: https://stressfreervs.com/#add-ons \nQUICK SUMMARY (WHAT MAKES THIS A NO-BRAINER) \n\nStagecoach is one of the highest-demand RV rental weekends of the year\nFlat-rate pricing beats large corporate fleets\nClean\, well-maintained units with local support\nInventory WILL sell out — early booking locks availability
URL:https://stressfreervs.com/event/stagecoach-2026/
LOCATION:Empire Polo Club\, 81800 Avenue 51\, Indio\, CA\, 92201\, United States
CATEGORIES:2026,Special Events
ATTACH;FMTTYPE=image/jpeg:https://stressfreervs.com/wp-content/uploads/2025/12/6qstqxgqsj4mtjz6mxr7pelzb4kfvcbjfcsbsfgs.jpg
END:VEVENT
BEGIN:VEVENT
DTSTART;VALUE=DATE:20260515
DTEND;VALUE=DATE:20260518
DTSTAMP:20260421T155310
CREATED:20251227T192312Z
LAST-MODIFIED:20260101T030832Z
UID:5084-1778803200-1779062399@stressfreervs.com
SUMMARY:EDC Las Vegas 2026
DESCRIPTION:2026 EDC — STRESS FREE RV EVENT PACKAGES \nEvent: Electric Daisy Carnival (Las Vegas)\nEvent Dates: May 15 – May 17\, 2026\nEvent Location: Las Vegas Motor Speedway\, 7000 Las Vegas Blvd N\, Las Vegas\, NV 89115\nMeeting / Pickup Location: Sycuan Market\, 4915 Dehesa Road\, El Cajon\, CA 92109\nEvent Info: https://lasvegas.electricdaisycarnival.com \nDrivable RVs Only | WILL SELL OUT | Early Booking Strongly Recommended!!! \nWHY STRESS FREE RVs: \n\nProven EDC event experience\nPremium\, event-ready drivable RVs\nSimple flat-rate festival packages No nightly pricing surprises\nStress-free pickup\, orientation\, travel\, and return\n\nIMPORTANT TO KNOW (KEEP IT SIMPLE) \n\nDrivable RVs only\nEvent pricing replaces standard rates\nMinimum stay applies\nPickup before event / return after event\nLimited inventory — first come\, first served\n\nEVENT FLAT-RATE RV PACKAGES (SPECIAL PRICING) \n05/14 – 05/18 SPECIAL FLAT RATES ARE IN EFFECT \n\n\n\n\n\nRV Type \n\n\nEvent Package (4 Nights) \n\n\n\n\n\n\nDrivable RVs \n\n\n$2\,495 – $2\,995+ \n\n\n\n\n\nFlat-rate packages INCLUDE: \n\nTrip Prep & Orientation\nStarter Supply Kit\nAccidental Damage Protection\n\n(Taxes added at checkout. Delivery not included.) \nMOST POPULAR ADD-ONS A’LA CARTE PRICING OPTIONS \n\n\n\n\n\nEnhancement \n\n\nPrice \n\n\nWhy Guests Choose It \n\n\n\n\n\n\nStress Free Essentials \n\n\n$349 \n\n\nEarly start & late return\, pre-filled water\, propane refilled\, waste tanks serviced \n\n\n\n\nUNLIMITED WiFi (Starlink) \n\n\n$45 per day \n\n\nStay connected festival-wide \n\n\n\n\nCommercial Insurance – Full Coverage \n\n\n$10–$35 per day \n\n\nREQUIRED with reservation \n\n\n\n\n\nFull Add-On Menu: https://stressfreervs.com/#add-ons \n💎 BEST VALUE — EDC BUNDLE \nBUNDLE & SAVE — INCLUDED WITH STRESS FREE PLUS PACKAGE +$449 \nMost selected option for EDC guests \nIncludes: \n\nStress Free Plus Package (Carefree Convenience Package + Early Start + Late Return)\nLUDIFY Services Fresh water pre-filled • Propane refilled • Waste tanks emptied\nBBQ Upgrade\n\n✨ Arrive ready. Leave easy. Stress Free! \nQUICK SUMMARY (WHAT MAKES THIS A NO-BRAINER) \n\nEDC is one of the highest-demand RV rental events in the U.S.\nFlat-rate pricing averages $2\,500++ market-wide\nCompetitive pricing vs large corporate fleets\nClean\, well-maintained units with local support\nInventory WILL sell out — early booking locks availability
URL:https://stressfreervs.com/event/edc-las-vegas-2026/
LOCATION:Las Vegas Motor Speedway\, 7000 Las Vegas Blvd N\, Las Vegas\, NV\, 89115\, United States
CATEGORIES:2026,Special Events
ATTACH;FMTTYPE=image/jpeg:https://stressfreervs.com/wp-content/uploads/2025/12/cedc2025-0515-160440-2-ams-1080x480-1.jpg
END:VEVENT
BEGIN:VEVENT
DTSTART;VALUE=DATE:20260520
DTEND;VALUE=DATE:20260525
DTSTAMP:20260421T155310
CREATED:20251227T195827Z
LAST-MODIFIED:20260101T030835Z
UID:5106-1779235200-1779667199@stressfreervs.com
SUMMARY:Lightning in a Bottle 2026
DESCRIPTION:2026 LIGHTNING IN A BOTTLE — STRESS FREE RV EVENT PACKAGES \nEvent: Lightning in a Bottle (LIB)\nEvent Dates: May 20 – May 24\, 2026\nEvent Location: Buena Vista Lake / LIB Festival Grounds\, Bakersfield\, CA\nMeeting / Pickup Location: Sycuan Market\, 4915 Dehesa Road\, El Cajon\, CA 92109\nEvent Info: https://lightninginabottle.org \nDrivable RVs Only | WILL SELL OUT | Early Booking Strongly Recommended!!! \nWHY STRESS FREE RVs: \n\nProven LIB event experience\nPremium\, event-ready drivable RVs\nSimple flat-rate festival packages\nNo nightly pricing surprises\nStress-free pickup\, orientation\, travel\, and return\n\nIMPORTANT TO KNOW (KEEP IT SIMPLE) \n\nDrivable RVs only\nEvent pricing replaces standard rates\nMinimum stay applies\nPickup before event / return after event Limited inventory — first come\, first served\n\nEVENT FLAT-RATE RV PACKAGES (SPECIAL PRICING) \n05/19 – 05/25 SPECIAL FLAT RATES ARE IN EFFECT \n\n\n\n\n\nRV Type \n\n\nEvent Package (5 Nights) \n\n\n\n\n\n\nDrivable RVs \n\n\n$1\,995 – $2\,495+ \n\n\n\n\n\nFlat-rate packages INCLUDE: \n\nTrip Prep & Orientation\nStarter Supply Kit\nAccidental Damage Protection\n\n(Taxes added at checkout. Delivery not included.) \nMOST POPULAR ADD-ONS A’LA CARTE PRICING OPTIONS \n\n\n\n\n\nEnhancement \n\n\nPrice \n\n\nWhy Guests Choose It \n\n\n\n\n\n\nStress Free Essentials \n\n\n$349 \n\n\nEarly start & late return\, pre-filled water\, propane refilled\, waste tanks serviced \n\n\n\n\nUNLIMITED WiFi (Starlink) \n\n\n$45 per day \n\n\nStay connected throughout the festival \n\n\n\n\nCommercial Insurance – Full Coverage \n\n\n$10–$35 per day \n\n\nREQUIRED with reservation \n\n\n\n\n\nFull Add-On Menu: https://stressfreervs.com/#add-ons \n💎 BEST VALUE — LIB BUNDLE \nBUNDLE & SAVE — INCLUDED WITH STRESS FREE ESSENTIALS + $449 \nMost selected option for LIB guests \nIncludes: \n\nStress Free Essentials (Carefree Convenience Package + Early Start + Late Return)\nLUDIFY Services Fresh water pre-filled • Propane refilled • Waste tanks emptied\nBBQ Upgrade\n\n✨ Arrive prepared. Depart easy. Total peace of mind. \nQUICK SUMMARY (WHAT MAKES THIS A NO-BRAINER) \n\nLIB is one of California’s highest-demand camping festivals\nFlat-rate pricing is competitive vs corporate fleets\nEvent-tested\, well-maintained RVs\nLocal support before and after the event\nInventory WILL sell out — early booking locks availability
URL:https://stressfreervs.com/event/lightning-in-a-bottle-2026/
LOCATION:Buena Vista Lake\, 13601 Ironbark Rd\, Bakersfield\, CA\, 93311\, United States
CATEGORIES:2026,Special Events
ATTACH;FMTTYPE=image/jpeg:https://stressfreervs.com/wp-content/uploads/2025/12/festcrew.jpeg
END:VEVENT
BEGIN:VEVENT
DTSTART;VALUE=DATE:20260828
DTEND;VALUE=DATE:20260909
DTSTAMP:20260421T155310
CREATED:20251227T201336Z
LAST-MODIFIED:20260101T030847Z
UID:5120-1787875200-1788911999@stressfreervs.com
SUMMARY:Burning Man 2026
DESCRIPTION:2026 BURNING MAN — STRESS FREE RV EVENT PACKAGES \nEvent: Burning Man\nEvent Dates: August 30 – September 7\, 2026\nEvent Location: Black Rock City\, NV\nSpecial Rate Window: 08/28 – 09/08\nEvent Info: https://burningman.org \nALL INVENTORY WILL SELL OUT | EARLY BOOKING STRONGLY RECOMMENDED \nWHY STRESS FREE RVs: \n\nBurning Man–experienced fleet & prep standards\nPlaya-ready units (dust\, duration\, power realities accounted for)\nClear\, flat-rate event pricing\nOptional enhanced Burning Man services\nDesigned for long-duration\, off-grid stays\n\nIMPORTANT TO KNOW (KEEP IT SIMPLE) \n\nExtreme off-grid / playa environment\nEnhanced prep & servicing required\nEvent pricing replaces all standard rates\nLonger rental window\nLimited inventory — early booking matters!\n\nEVENT FLAT-RATE RV PACKAGES (SPECIAL PRICING) \n🔥 EARLY BIRD SAVINGS — BOOK BY MAY 15 \nTOWABLE RVs \n\n\n\n\n\nRV Type \n\n\nSleeps \n\n\nEarly Bird Price \n\n\n\n\n\n\nSmall \n\n\nup to 3 \n\n\n$1\,750 \n\n\n\n\nXL \n\n\n6–8 \n\n\n$1\,999 \n\n\n\n\nXXL \n\n\n8–10 \n\n\n$2\,500 \n\n\n\n\nMOTORIZED RVs \n\n\n\n\n\n\nRV Type \n\n\nSleeps \n\n\nEarly Bird Price \n\n\n\n\n\n\nClass A \n\n\nup to 6 \n\n\n$9\,000 \n\n\n\n\nClass B \n\n\nup to 4 \n\n\n$4\,000 \n\n\n\n\nClass C \n\n\nup to 6 \n\n\n$5\,000 \n\n\n\n\nClass C Bunkhouse \n\n\nup to 10 \n\n\n$6\,500 \n\n\n\n\n\n🔥 PROMOTIONAL EVENT RATES — BOOKED AFTER MAY 15 \nTOWABLE RVs \n\n\n\n\n\nRV Type \n\n\nSleeps \n\n\nEvent Price \n\n\n\n\n\n\nSmall \n\n\nup to 3 \n\n\n$1\,999 \n\n\n\n\nXL \n\n\n6–8 \n\n\n$2\,500 \n\n\n\n\nXXL \n\n\n8–10 \n\n\n$3\,500 \n\n\n\n\n\nMOTORIZED RVs \n\n\n\n\n\nRV Type \n\n\nSleeps \n\n\nEvent Price \n\n\n\n\n\n\nClass A \n\n\nup to 6 \n\n\n$12\,500 \n\n\n\n\nClass B \n\n\n2–4 \n\n\n$4\,500 \n\n\n\n\nClass C \n\n\n6–8 \n\n\n$6\,500 \n\n\n\n\nClass C Bunkhouse \n\n\n8–10 \n\n\n$7\,500 \n\n\n\n\n\nREQUIRED EVENT FEES (CLEAR & UPFRONT) \n\n$225 Mandatory Prep Fee Includes pre/post inspections\, walkthrough tutorial\, essential supply kit\n$1\,200 Motorized Service Fee (Motorized Units Only) Includes pre/post oil changes\, generator service\, full post-trip inspection & tune-up\nApplicable taxes & insurance apply\n\nOPTIONAL BURNING MAN SERVICES (POPULAR) \nInquire for availability & pricing \n\nPower & generator solutions\nPlaya comfort & exterior setups\nEnhanced prep & post-event restoration\nAdditional duration or logistics support\n\nQUICK SUMMARY (WHY THIS MAKES SENSE) \n\nBurning Man requires serious prep — we handle it properly\nEarly Bird pricing rewards planners\nFlat-rate transparency for long stays\nPlaya-tested units and processes\nInventory WILL sell out — early booking locks savings
URL:https://stressfreervs.com/event/burning-man-2026/
LOCATION:Black Rock City\, Black Rock City\, NV\, United States
CATEGORIES:2026,Special Events
ATTACH;FMTTYPE=image/jpeg:https://stressfreervs.com/wp-content/uploads/2025/12/header-whatis.jpeg
END:VEVENT
END:VCALENDAR